BEGIN:VCALENDAR
VERSION:2.0
PRODID:-//casaconnectionne.com//NONSGML kigkonsult.se iCalcreator 2.30.10//
CALSCALE:GREGORIAN
METHOD:PUBLISH
UID:2f4513bd-236e-465f-b14f-99d1a9117924
X-WR-CALDESC:
X-WR-RELCALID:4c764cd789a66f4d8a5dd7c38e6bf4d0
X-WR-TIMEZONE:America/Chicago
BEGIN:VTIMEZONE
TZID:America/Chicago
BEGIN:STANDARD
TZNAME:CST
DTSTART:20231105T020000
TZOFFSETFROM:-0500
TZOFFSETTO:-0600
RDATE:20241103T020000
RDATE:20251102T020000
END:STANDARD
BEGIN:DAYLIGHT
TZNAME:CDT
DTSTART:20240310T020000
TZOFFSETFROM:-0600
TZOFFSETTO:-0500
RDATE:20250309T020000
END:DAYLIGHT
END:VTIMEZONE
BEGIN:VEVENT
UID:0851256c-fcb6-49b4-8e60-335dca0c8a66
DTSTAMP:20260421T142212Z
DESCRIPTION:
DTSTART;TZID=America/Chicago:20240810T083000
DTEND;TZID=America/Chicago:20240810T100000
LOCATION:Frankfort Square\, starting at 8:30 a.m. in front of the stage.
SUMMARY:I'm a Little Cutie Baby Contest 2024
END:VEVENT
END:VCALENDAR
