BEGIN:VCALENDAR
VERSION:2.0
PRODID:-//casaconnectionne.com//NONSGML kigkonsult.se iCalcreator 2.30.10//
CALSCALE:GREGORIAN
METHOD:PUBLISH
UID:535225a7-c184-436e-8604-c814a2176f7c
X-WR-CALDESC:Calling all CASA Connection volunteers: at this month's CEU se
 ssion Susie will provide program & policy updates. RSVPs are requested. Co
 ntact Lisa for more information
X-WR-RELCALID:8ebf19874ab5c6af88e24ee158fa658a
X-WR-TIMEZONE:America/Chicago
BEGIN:VTIMEZONE
TZID:America/Chicago
BEGIN:STANDARD
TZNAME:CST
DTSTART:20221106T020000
TZOFFSETFROM:-0500
TZOFFSETTO:-0600
RDATE:20231105T020000
END:STANDARD
BEGIN:DAYLIGHT
TZNAME:CDT
DTSTART:20220313T020000
TZOFFSETFROM:-0600
TZOFFSETTO:-0500
RDATE:20230312T020000
RDATE:20240310T020000
END:DAYLIGHT
END:VTIMEZONE
BEGIN:VEVENT
UID:b8a7d381-551d-4dcc-acd7-fc1f0728f5c0
DTSTAMP:20260422T231218Z
DESCRIPTION:Calling all CASA Connection volunteers: at this month's CEU ses
 sion Susie will provide program & policy updates. RSVPs are requested. Con
 tact Lisa for more information
DTSTART;TZID=America/Chicago:20230220T173000
DTEND;TZID=America/Chicago:20230220T183000
LOCATION:Via Zoom
SUMMARY:February monthly CEU session
END:VEVENT
END:VCALENDAR
