BEGIN:VCALENDAR
VERSION:2.0
PRODID:-//casaconnectionne.com//NONSGML kigkonsult.se iCalcreator 2.30.10//
CALSCALE:GREGORIAN
METHOD:PUBLISH
UID:54347590-907a-4557-9f15-aa3a8344fe85
X-WR-CALDESC:2021 Nebraska CASA Conference\n\n
X-WR-RELCALID:3fa748e463a5f5b39705ab1d78bc1dca
X-WR-TIMEZONE:America/Chicago
BEGIN:VTIMEZONE
TZID:America/Chicago
BEGIN:STANDARD
TZNAME:CST
DTSTART:20201101T020000
TZOFFSETFROM:-0500
TZOFFSETTO:-0600
RDATE:20211107T020000
RDATE:20221106T020000
END:STANDARD
BEGIN:DAYLIGHT
TZNAME:CDT
DTSTART:20210314T020000
TZOFFSETFROM:-0600
TZOFFSETTO:-0500
RDATE:20220313T020000
END:DAYLIGHT
END:VTIMEZONE
BEGIN:VEVENT
UID:70dc73b7-2cf0-4d9d-8452-613655c813bf
DTSTAMP:20260424T060446Z
DESCRIPTION:2021 Nebraska CASA Conference\n\n
DTSTART;TZID=America/Chicago:20210827T000000
DTEND;TZID=America/Chicago:20210828T235900
LOCATION:Embassy Suites\, Omaha
SUMMARY:Nebraska State CASA Conference
END:VEVENT
END:VCALENDAR
