BEGIN:VCALENDAR
VERSION:2.0
PRODID:-//casaconnectionne.com//NONSGML kigkonsult.se iCalcreator 2.30.10//
CALSCALE:GREGORIAN
METHOD:PUBLISH
UID:b0574420-a7c9-4fb4-9686-df98c6265db3
X-WR-CALDESC:Columbus Days\, the area’s Biggest Block Party\, offers attend
 ees four fun-filled days of food\, music and fun! The event takes place du
 ring the second weekend in August annually\, with a different theme every 
 year.\n\nSome special events for 2021 Columbus Days include:\nColumbus Bar
 becue Classic\nLive Music\nCorn Hole Tournament\nBaby Contest\nColumbus Ja
 zz Orchestra\nParade\nAnd SO much more!
X-WR-RELCALID:d18a425f453fe0536723f63ba04c4f35
X-WR-TIMEZONE:America/Chicago
BEGIN:VTIMEZONE
TZID:America/Chicago
BEGIN:STANDARD
TZNAME:CST
DTSTART:20201101T020000
TZOFFSETFROM:-0500
TZOFFSETTO:-0600
RDATE:20211107T020000
RDATE:20221106T020000
END:STANDARD
BEGIN:DAYLIGHT
TZNAME:CDT
DTSTART:20210314T020000
TZOFFSETFROM:-0600
TZOFFSETTO:-0500
RDATE:20220313T020000
END:DAYLIGHT
END:VTIMEZONE
BEGIN:VEVENT
UID:7b51937f-4591-41a0-87c6-8bfc3db7fc58
DTSTAMP:20260424T054738Z
DESCRIPTION:Columbus Days\, the area’s Biggest Block Party\, offers attende
 es four fun-filled days of food\, music and fun! The event takes place dur
 ing the second weekend in August annually\, with a different theme every y
 ear.\n\nSome special events for 2021 Columbus Days include:\nColumbus Barb
 ecue Classic\nLive Music\nCorn Hole Tournament\nBaby Contest\nColumbus Jaz
 z Orchestra\nParade\nAnd SO much more!
DTSTART;TZID=America/Chicago:20210813T103000
DTEND;TZID=America/Chicago:20210815T120000
LOCATION:Columbus\, Nebraska
SUMMARY:Columbus Days 2021
END:VEVENT
END:VCALENDAR
